BEGIN:VCALENDAR
VERSION:2.0
PRODID:-//eventon.com NONSGML v1.0//EN
CALSCALE:GREGORIAN
METHOD:PUBLISH
BEGIN:VEVENT
UID:69ea9ad6b3aae
DTSTAMP:20260423T221902Z
DTSTART:20230222T170000Z
DTEND:20230222T225000Z
LOCATION:Club Diario de Mallorca
SUMMARY:Cap a una nàutica implicada
DESCRIPTION:El Club Diario de Mallorca i la Fundació Marilles organitz
 en el cicle «La mar a debat. Compromisos per a la protecció de la mar Ba
 lear»\,  una sèrie de col·loquis sobre les solucions i propostes que dif
 erents sectors\,  directament implicats en la salut de la mar\,  poden apor
 tar per a la seva protecció. El segon dels[..]\nhttps://club.diariodemallo
 rca.es/ver-evento/cap-nautica-implicada/
URL:https://club.diariodemallorca.es/ver-evento/cap-nautica-implicada/
END:VEVENT
END:VCALENDAR