BEGIN:VCALENDAR
VERSION:2.0
PRODID:-//eventon.com NONSGML v1.0//EN
CALSCALE:GREGORIAN
METHOD:PUBLISH
BEGIN:VEVENT
UID:69ea34dc8e8a6
DTSTAMP:20260423T150356Z
DTSTART:20230609T160000Z
DTEND:20230609T215000Z
LOCATION:Club Diario de Mallorca
SUMMARY:Presentación del libro: "Operación Jaque Mate. Cómo acabaron con el fiscal del caso Villarejo"
DESCRIPTION:El nuevo libro del reconocido periodista Ernesto Ekaizer se ade
 ntra en el polémico caso Villarejo y cómo el fiscal Stampa fue apartado p
 or razones políticas. «¿Quién es de verdad el excomisario José Manuel 
 Villarejo? ¿Agente encubierto de inteligencia o CEO del conglomerado de em
 presas CENYT que ha amasado una fortuna?[..]\nhttps://club.diariodemallorca
 .es/ver-evento/presentacion-del-libro-operacion-jaque-mate-como-acabaron-fi
 scal-del-caso-villarejo/
URL:https://club.diariodemallorca.es/ver-evento/presentacion-del-libro-operacion-jaque-mate-como-acabaron-fiscal-del-caso-villarejo/
END:VEVENT
END:VCALENDAR