BEGIN:VCALENDAR
VERSION:2.0
PRODID:-//eventon.com NONSGML v1.0//EN
CALSCALE:GREGORIAN
METHOD:PUBLISH
BEGIN:VEVENT
UID:69ed7a1b04b19
DTSTAMP:20260426T023611Z
DTSTART:20230613T163000Z
DTEND:20230613T215000Z
LOCATION:Club Diario de Mallorca
SUMMARY:Presentación del libro: "Operación falsa bandera. Del Kremlin a Tinduf"
DESCRIPTION:En el amor y en la guerra las cosas no siempre son lo que parec
 en. Cuando hay espías de por medio\,  nunca lo son. Los servicios de intel
 igencia españoles han detectado en Madrid unas extrañas comunicaciones en
 tre un ciudadano ruso y un miembro del Frente Polisario. Pronto se dan cuen
 ta[..]\nhttps://club.diariodemallorca.es/ver-evento/presentacion-del-libro-
 operacion-falsa-bandera-del-kremlin-tinduf/
URL:https://club.diariodemallorca.es/ver-evento/presentacion-del-libro-operacion-falsa-bandera-del-kremlin-tinduf/
END:VEVENT
END:VCALENDAR