BEGIN:VCALENDAR
VERSION:2.0
PRODID:-//eventon.com NONSGML v1.0//EN
CALSCALE:GREGORIAN
METHOD:PUBLISH
BEGIN:VEVENT
UID:69ea7647d1f3b
DTSTAMP:20260423T194303Z
DTSTART:20180510T170000Z
DTEND:20180510T215000Z
LOCATION:
SUMMARY:Elogio de las familias sensatamente imperfectas
DESCRIPTION:Pedagogía para adolescentes y padres. Imparte: Gregorio Luri\,
   doctor en filosofía\,  profesor\,  escritor. Premio Mejora tu Escuela P
 blica 2017 Gregorio Luri posee una amplia experiencia docente: ha sido mae
 stro de primaria\,  profesor de filosofía en bachillerato y en la universi
 dad. Es autor\,  entre otros\,  de “La escuela contra el mundo”\, [..]\
 nhttps://club.diariodemallorca.es/ver-evento/elogio-familias-sensatamente-i
 mperfectas/
URL:https://club.diariodemallorca.es/ver-evento/elogio-familias-sensatamente-imperfectas/
END:VEVENT
END:VCALENDAR