BEGIN:VCALENDAR
VERSION:2.0
PRODID:-//eventon.com NONSGML v1.0//EN
CALSCALE:GREGORIAN
METHOD:PUBLISH
BEGIN:VEVENT
UID:69e803f438516
DTSTAMP:20260421T231044Z
DTSTART:20180917T163000Z
DTEND:20180917T215000Z
LOCATION:
SUMMARY:Fomentar la cultura de la innovación en Amazon Web Services
DESCRIPTION:@BDMAmazon Miguel Álava\,  director de Amazon Web Services\,  
 nos hablará de la importancia de apostar por la&nbsp; innovación y coloca
 rla en el corazón de la empresa ya que cada vez más&nbsp; juega un import
 ante papel en el desarrollo y crecimiento. A partir de su propia experienci
 a\,  AWS abraza la innovación[..]\nhttps://club.diariodemallorca.es/ver-ev
 ento/fomentar-cultura-innovacion-amazon-web-services/
URL:https://club.diariodemallorca.es/ver-evento/fomentar-cultura-innovacion-amazon-web-services/
END:VEVENT
END:VCALENDAR