BEGIN:VCALENDAR
VERSION:2.0
PRODID:-//eventon.com NONSGML v1.0//EN
CALSCALE:GREGORIAN
METHOD:PUBLISH
BEGIN:VEVENT
UID:69eb1f9bb9c5b
DTSTAMP:20260424T074531Z
DTSTART:20260311T173000Z
DTEND:20260311T190000Z
LOCATION:
SUMMARY:FORO BELLVER-PRESENTACIÓN LIBRO EL ORDEN MUNDIAL
DESCRIPTION:Inscríbete aquí\nhttps://club.diariodemallorca.es/ver-evento/
 foro-bellver-presentacion-libro-orden-mundial/
URL:https://club.diariodemallorca.es/ver-evento/foro-bellver-presentacion-libro-orden-mundial/
END:VEVENT
END:VCALENDAR