BEGIN:VCALENDAR
VERSION:2.0
PRODID:-//eventon.com NONSGML v1.0//EN
CALSCALE:GREGORIAN
METHOD:PUBLISH
BEGIN:VEVENT
UID:69eb1f9aba5db
DTSTAMP:20260424T074530Z
DTSTART:20260317T090000Z
DTEND:20260317T110000Z
LOCATION:Club Diario de Mallorca
SUMMARY:II Foro de Transición Energética
DESCRIPTION:El Foro de Transición Energética en Baleares\,  organizado po
 r el Diario de Mallorca\,  es un espacio para debatir los retos y oportunid
 ades del archipiélago en su camino hacia la sostenibilidad. El evento reun
 irá a líderes públicos y privados para analizar las políticas y estrate
 gias que impulsen un modelo energético más[..]\nhttps://club.diariodemall
 orca.es/ver-evento/ii-foro-transicion-energetica/
URL:https://club.diariodemallorca.es/ver-evento/ii-foro-transicion-energetica/
END:VEVENT
END:VCALENDAR