BEGIN:VCALENDAR
VERSION:2.0
PRODID:-//eventon.com NONSGML v1.0//EN
CALSCALE:GREGORIAN
METHOD:PUBLISH
BEGIN:VEVENT
UID:69eb1f98b2f8c
DTSTAMP:20260424T074528Z
DTSTART:20260325T090000Z
DTEND:20260325T130000Z
LOCATION:Club Diario de Mallorca
SUMMARY:Foro Municipalismos
DESCRIPTION:Diario de Mallorca organiza la primera edición del Foro de Mun
 icipios\,  el encuentro político e institucional de los municipios de Mall
 orca.​Un evento dedicado al municipalismo para centrarse en desarrollar e
 strategias y soluciones locales para hacer frente a retos y desafíos.​ E
 ste nuevo espacio de debate y colaboración nace con el[..]\nhttps://club.d
 iariodemallorca.es/ver-evento/foro-municipalismos/
URL:https://club.diariodemallorca.es/ver-evento/foro-municipalismos/
END:VEVENT
END:VCALENDAR